BEGIN:VCALENDAR
VERSION:2.0
PRODID:-//Tamizdat - ECPv6.15.20//NONSGML v1.0//EN
CALSCALE:GREGORIAN
METHOD:PUBLISH
X-ORIGINAL-URL:https://tamizdat.org
X-WR-CALDESC:Events for Tamizdat
REFRESH-INTERVAL;VALUE=DURATION:PT1H
X-Robots-Tag:noindex
X-PUBLISHED-TTL:PT1H
BEGIN:VTIMEZONE
TZID:UTC
BEGIN:STANDARD
TZOFFSETFROM:+0000
TZOFFSETTO:+0000
TZNAME:UTC
DTSTART:20230101T000000
END:STANDARD
END:VTIMEZONE
BEGIN:VEVENT
DTSTART;VALUE=DATE:20240425
DTEND;VALUE=DATE:20240427
DTSTAMP:20260422T121715
CREATED:20240425T174719Z
LAST-MODIFIED:20240425T174719Z
UID:6826-1714003200-1714175999@tamizdat.org
SUMMARY:Tamizdat at On The Move's Annual Cultural Mobility Forum 2024
DESCRIPTION:Tamizdat is excited to join our partner organization On The Move’s third annual Cultural Mobility Forum 2024 in Caernarfon\, Wales and live streamed by HowlRound. \nAs part of its multiannual programme co-funded by the European Union\, each year On the Move proposes a Cultural Mobility Forum to collectively investigate international artistic and cultural mobility trends. As a unique knowledge platform\, the network works together with its members and partners to design thematic panel discussions and contextualize global mobility issues addressed in On the Move’s annual Cultural Mobility Yearbook.
URL:https://tamizdat.org/events/tamizdat-at-on-the-moves-annual-cultural-mobility-forum-2024/
LOCATION:Caernarfon\, Wales\, United Kingdom
END:VEVENT
END:VCALENDAR