BEGIN:VCALENDAR
VERSION:2.0
PRODID:-//Tamizdat - ECPv6.15.20//NONSGML v1.0//EN
CALSCALE:GREGORIAN
METHOD:PUBLISH
X-WR-CALNAME:Tamizdat
X-ORIGINAL-URL:https://tamizdat.org
X-WR-CALDESC:Events for Tamizdat
REFRESH-INTERVAL;VALUE=DURATION:PT1H
X-Robots-Tag:noindex
X-PUBLISHED-TTL:PT1H
BEGIN:VTIMEZONE
TZID:Europe/Dublin
BEGIN:STANDARD
TZOFFSETFROM:+0000
TZOFFSETTO:+0100
TZNAME:IST
DTSTART:20230326T010000
END:STANDARD
BEGIN:DAYLIGHT
TZOFFSETFROM:+0100
TZOFFSETTO:+0000
TZNAME:GMT
DTSTART:20231029T010000
END:DAYLIGHT
BEGIN:STANDARD
TZOFFSETFROM:+0000
TZOFFSETTO:+0100
TZNAME:IST
DTSTART:20240331T010000
END:STANDARD
BEGIN:DAYLIGHT
TZOFFSETFROM:+0100
TZOFFSETTO:+0000
TZNAME:GMT
DTSTART:20241027T010000
END:DAYLIGHT
BEGIN:STANDARD
TZOFFSETFROM:+0000
TZOFFSETTO:+0100
TZNAME:IST
DTSTART:20250330T010000
END:STANDARD
BEGIN:DAYLIGHT
TZOFFSETFROM:+0100
TZOFFSETTO:+0000
TZNAME:GMT
DTSTART:20251026T010000
END:DAYLIGHT
END:VTIMEZONE
BEGIN:VEVENT
DTSTART;TZID=Europe/Dublin:20241006T080000
DTEND;TZID=Europe/Dublin:20241006T150000
DTSTAMP:20260421T044245
CREATED:20240906T234617Z
LAST-MODIFIED:20240906T234617Z
UID:6871-1728201600-1728226800@tamizdat.org
SUMMARY:Tamizdat at Ireland Music Week: Touring the US and Visa Applications
DESCRIPTION:Tamizdat’s Matthew Covey presents “Touring the US and Visa Applications” at Ireland Music Week 2024. Learn more about the conference and get your tickets here!
URL:https://tamizdat.org/events/tamizdat-at-ireland-music-week-touring-the-us-and-visa-applications/
END:VEVENT
END:VCALENDAR