BEGIN:VCALENDAR
VERSION:2.0
PRODID:-//Tamizdat - ECPv6.15.20//NONSGML v1.0//EN
CALSCALE:GREGORIAN
METHOD:PUBLISH
X-ORIGINAL-URL:https://tamizdat.org
X-WR-CALDESC:Events for Tamizdat
REFRESH-INTERVAL;VALUE=DURATION:PT1H
X-Robots-Tag:noindex
X-PUBLISHED-TTL:PT1H
BEGIN:VTIMEZONE
TZID:UTC
BEGIN:STANDARD
TZOFFSETFROM:+0000
TZOFFSETTO:+0000
TZNAME:UTC
DTSTART:20240101T000000
END:STANDARD
END:VTIMEZONE
BEGIN:VEVENT
DTSTART;TZID=UTC:20250110T093000
DTEND;TZID=UTC:20250110T110000
DTSTAMP:20260421T091737
CREATED:20250108T022143Z
LAST-MODIFIED:20250108T022143Z
UID:6905-1736501400-1736506800@tamizdat.org
SUMMARY:Tamizdat at Wavelengths Conference: Infrastructure and Investment: We’re Stronger Together
DESCRIPTION:A check in on the holistic health and sustainability of the performing arts ecosystem with agents\, artists\, press\, legal\, funders to understand its moving parts to strengthen them. It looks like tough times ahead but arts workers are always on the frontline of the battle making change\, resisting oppression\, creating bridges\, building partnerships and strengthening community. How can we be mutually supportive to foster\, develop resilience\, and grow our unique ecosystem? Given the state of turmoil in the world\, what will our biggest challenge be and how will we confront them? How can we come together as a community to support artists/arts community efforts\, whether it’s big PACs\, major funders or independent artists\, agents\, media and venues. Come away with fresh perspectives and new ideas about who we are and how we need each other at this critical time. \nThis event takes place at Concourse A in the Hilton Hotel Midtown\, New York City.
URL:https://tamizdat.org/events/tamizdat-at-wavelengths-conference-infrastructure-and-investment-were-stronger-together/
LOCATION:New York Hilton Midtown\, 1335 Avenue of the Americas at 54th St.\, New York\, NY\, 10019\, United States
END:VEVENT
END:VCALENDAR