BEGIN:VCALENDAR
VERSION:2.0
PRODID:-//Tamizdat - ECPv6.15.20//NONSGML v1.0//EN
CALSCALE:GREGORIAN
METHOD:PUBLISH
X-ORIGINAL-URL:https://tamizdat.org
X-WR-CALDESC:Events for Tamizdat
REFRESH-INTERVAL;VALUE=DURATION:PT1H
X-Robots-Tag:noindex
X-PUBLISHED-TTL:PT1H
BEGIN:VTIMEZONE
TZID:UTC
BEGIN:STANDARD
TZOFFSETFROM:+0000
TZOFFSETTO:+0000
TZNAME:UTC
DTSTART:20240101T000000
END:STANDARD
END:VTIMEZONE
BEGIN:VEVENT
DTSTART;TZID=UTC:20250112T123000
DTEND;TZID=UTC:20250112T133000
DTSTAMP:20260421T121349
CREATED:20250104T033402Z
LAST-MODIFIED:20250104T033402Z
UID:6899-1736685000-1736688600@tamizdat.org
SUMMARY:Tamizdat at APAP: Strategies for Navigating the Current Visa Process
DESCRIPTION:A Panel Featuring:\n\nGrace Blake (Programming Director\, City Winery NYC)\n Matthew Covey (Executive Director\, Tamizdat & Partner\, CoveyLaw)\n Meiyin Wang (Director of Programming and Producing\, NYPAC)\n\n\nPresenting international artists in the U.S. is complex and costly\, and given the substantial changes in the last year with new and more complex fees and new protocols for navigating the process\, the challenges can feel almost insurmountable for artists\, agents\, managers\, and presenters. This panel brings together professionals with expertise and lived experience\, to discuss strategies for facing the challenges of keeping the U.S. open to international culture and how to best manage the variables of the process as it currently stands.
URL:https://tamizdat.org/events/tamizdat-at-apap-strategies-for-navigating-the-current-visa-process/
LOCATION:New York Hilton Midtown\, 1335 Avenue of the Americas at 54th St.\, New York\, NY\, 10019\, United States
END:VEVENT
END:VCALENDAR