BEGIN:VCALENDAR
VERSION:2.0
PRODID:-//Tamizdat - ECPv6.15.20//NONSGML v1.0//EN
CALSCALE:GREGORIAN
METHOD:PUBLISH
X-ORIGINAL-URL:https://tamizdat.org
X-WR-CALDESC:Events for Tamizdat
REFRESH-INTERVAL;VALUE=DURATION:PT1H
X-Robots-Tag:noindex
X-PUBLISHED-TTL:PT1H
BEGIN:VTIMEZONE
TZID:UTC
BEGIN:STANDARD
TZOFFSETFROM:+0000
TZOFFSETTO:+0000
TZNAME:UTC
DTSTART:20240101T000000
END:STANDARD
END:VTIMEZONE
BEGIN:VEVENT
DTSTART;TZID=UTC:20250221T103000
DTEND;TZID=UTC:20250221T233000
DTSTAMP:20260420T102634
CREATED:20250203T211223Z
LAST-MODIFIED:20250203T211615Z
UID:6926-1740133800-1740180600@tamizdat.org
SUMMARY:Tamizdat at Folk Alliance: Town Hall Meeting on P2 Visas • Working Towards Parity at the Canada/US Border
DESCRIPTION:A Conversation with Cathy Fink\, Joy Bennet\, Jennifer Roe\, and Matthew Covey\nLe Centre Sheraton Montreal Hotel\, 1201 René-Lévesque Blvd W\, Montréal\, Quebec H3B 2L7\, Canada.\nSalon ABC – Level B\nCanada and the US share a 8800 km-long border\, and they also share a vibrant folk and roots music scene that isn’t restricted by legal boundaries. But while US musicians can easily cross the border to work and perform in Canada\, Canadian musicians who want to perform in the US face a visa process that is time-consuming\, expensive\, and capricious. Delays in visa processing can lead to cancelled gigs and tours\, which is bad for musicians\, presenters\, agents\, and audiences. Local 1000 of the AFM has spearheaded this Town Hall to update artists\, agents\, presenters and audience members on the current status of the process and of efforts towards changing the process. We will discuss where things stand right now\, where we’d like them to end up (total parity for US and Canadian musicians) and how you can become active in the campaign to make change. US musicians are the ones that can and must exert the most pressure on institutions for change. It’s critical that they attend this to begin plotting a course forward. It is a simple and essential act of solidarity. There will be time available after the meeting to discuss with Local 1000 and other panelists in the same room.
URL:https://tamizdat.org/events/folkalliance25-parity-us-canada-border/
LOCATION:Le Centre Sheraton Montreal Hotel\, 1201 René-Lévesque Blvd W\, Montréal\, Quebec\, H3B 2L7\, Canada
END:VEVENT
END:VCALENDAR