BEGIN:VCALENDAR
VERSION:2.0
PRODID:-//Tamizdat - ECPv6.15.20//NONSGML v1.0//EN
CALSCALE:GREGORIAN
METHOD:PUBLISH
X-WR-CALNAME:Tamizdat
X-ORIGINAL-URL:https://tamizdat.org
X-WR-CALDESC:Events for Tamizdat
REFRESH-INTERVAL;VALUE=DURATION:PT1H
X-Robots-Tag:noindex
X-PUBLISHED-TTL:PT1H
BEGIN:VTIMEZONE
TZID:America/Chicago
BEGIN:DAYLIGHT
TZOFFSETFROM:-0600
TZOFFSETTO:-0500
TZNAME:CDT
DTSTART:20240310T080000
END:DAYLIGHT
BEGIN:STANDARD
TZOFFSETFROM:-0500
TZOFFSETTO:-0600
TZNAME:CST
DTSTART:20241103T070000
END:STANDARD
BEGIN:DAYLIGHT
TZOFFSETFROM:-0600
TZOFFSETTO:-0500
TZNAME:CDT
DTSTART:20250309T080000
END:DAYLIGHT
BEGIN:STANDARD
TZOFFSETFROM:-0500
TZOFFSETTO:-0600
TZNAME:CST
DTSTART:20251102T070000
END:STANDARD
BEGIN:DAYLIGHT
TZOFFSETFROM:-0600
TZOFFSETTO:-0500
TZNAME:CDT
DTSTART:20260308T080000
END:DAYLIGHT
BEGIN:STANDARD
TZOFFSETFROM:-0500
TZOFFSETTO:-0600
TZNAME:CST
DTSTART:20261101T070000
END:STANDARD
END:VTIMEZONE
BEGIN:VEVENT
DTSTART;TZID=America/Chicago:20250311T123000
DTEND;TZID=America/Chicago:20250311T140000
DTSTAMP:20260420T085911
CREATED:20250305T204834Z
LAST-MODIFIED:20250306T015006Z
UID:6944-1741696200-1741701600@tamizdat.org
SUMMARY:Tamizdat at SXSW: Breaking Barriers • Advocating for fairer US Artist Visa Processes
DESCRIPTION:Tamizdat is proud to participate in the panel Breaking Barriers: Advocating for fairer US Artist Visa Processes at GERMAN HAUS on the Terrace of Speakeasy\,  412 Congress Ave.\, Austin\, TX 78701 \nThis Panel is Presented by: German Music Export by Initiative Musik & EMEE \nArtists searching for a development in their international careers face growing difficulties performing abroad\, especially concerning increasing obstacles to obtain performing visas to play in USA or UK. Which are the actual initiatives to tackle this issue\, and what is yet missing? \nModeration:\nTilmann Köllner\, Journalist \nPanelists:\nAngela Dorgan\, Managing Director\, Music Contact Ireland / Ireland Music Week\, EMEE Board Member\nDave Webster\, Head of International\, Musicians’ Union\nNeus López\, Head of Export\, German Music Export by Initiative Musik\, EMEE Board Vice President\nMatt Covey\, Tamizdat\, USA\nPetr Blazek\, Management/Booking badfocus + Aiko\, Vice-resident of IMMF\nLaura Lee\, Artist (Laura Lee and the Jettes) \n 
URL:https://tamizdat.org/events/tamizdat-at-sxsw-breaking-barriers-advocating-for-fairer-us-artist-visa-processes/
LOCATION:Speakeasy\, 412 Congress Ave.\, Austin\, TX\, 78701\, United States
END:VEVENT
END:VCALENDAR