BEGIN:VCALENDAR
VERSION:2.0
PRODID:-//Tamizdat - ECPv6.15.20//NONSGML v1.0//EN
CALSCALE:GREGORIAN
METHOD:PUBLISH
X-WR-CALNAME:Tamizdat
X-ORIGINAL-URL:https://tamizdat.org
X-WR-CALDESC:Events for Tamizdat
REFRESH-INTERVAL;VALUE=DURATION:PT1H
X-Robots-Tag:noindex
X-PUBLISHED-TTL:PT1H
BEGIN:VTIMEZONE
TZID:Europe/Dublin
BEGIN:STANDARD
TZOFFSETFROM:+0000
TZOFFSETTO:+0100
TZNAME:IST
DTSTART:20240331T010000
END:STANDARD
BEGIN:DAYLIGHT
TZOFFSETFROM:+0100
TZOFFSETTO:+0000
TZNAME:GMT
DTSTART:20241027T010000
END:DAYLIGHT
BEGIN:STANDARD
TZOFFSETFROM:+0000
TZOFFSETTO:+0100
TZNAME:IST
DTSTART:20250330T010000
END:STANDARD
BEGIN:DAYLIGHT
TZOFFSETFROM:+0100
TZOFFSETTO:+0000
TZNAME:GMT
DTSTART:20251026T010000
END:DAYLIGHT
BEGIN:STANDARD
TZOFFSETFROM:+0000
TZOFFSETTO:+0100
TZNAME:IST
DTSTART:20260329T010000
END:STANDARD
BEGIN:DAYLIGHT
TZOFFSETFROM:+0100
TZOFFSETTO:+0000
TZNAME:GMT
DTSTART:20261025T010000
END:DAYLIGHT
END:VTIMEZONE
BEGIN:VEVENT
DTSTART;TZID=Europe/Dublin:20251003T123000
DTEND;TZID=Europe/Dublin:20251003T133000
DTSTAMP:20260421T044315
CREATED:20250926T234447Z
LAST-MODIFIED:20250926T234447Z
UID:7052-1759494600-1759498200@tamizdat.org
SUMMARY:Tamizdat at Music Week Ireland: Touring the US & Visa Applications
DESCRIPTION:Please join Tamizdat at Music Week Ireland on Friday October 3rd at 12.30 in Dublin. For more information\, please navigate to the conference website and programme. \nBefore you leave for the U.S.\, you’ll need to get your visas in order. We chat to venue bookers\, agents and more as they share their tips and insights about your first trip to the United States. \nSpeakers – Matt Covey (Covey Law)\, Kyle Wilkerson (Sid The Cat)\, Mahmood Shaikh (Concerted Efforts)\, Sam Sumpter (Bands Do BK) \nModerator – Lisa Hresko (A2IM)
URL:https://tamizdat.org/events/tamizdat-at-music-week-ireland-touring-the-us-visa-applications/
LOCATION:Music Week Ireland\, Dublin\, Ireland
END:VEVENT
END:VCALENDAR