BEGIN:VCALENDAR
VERSION:2.0
PRODID:-//Tamizdat - ECPv6.15.20//NONSGML v1.0//EN
CALSCALE:GREGORIAN
METHOD:PUBLISH
X-WR-CALNAME:Tamizdat
X-ORIGINAL-URL:https://tamizdat.org
X-WR-CALDESC:Events for Tamizdat
REFRESH-INTERVAL;VALUE=DURATION:PT1H
X-Robots-Tag:noindex
X-PUBLISHED-TTL:PT1H
BEGIN:VTIMEZONE
TZID:America/New_York
BEGIN:DAYLIGHT
TZOFFSETFROM:-0500
TZOFFSETTO:-0400
TZNAME:EDT
DTSTART:20230312T070000
END:DAYLIGHT
BEGIN:STANDARD
TZOFFSETFROM:-0400
TZOFFSETTO:-0500
TZNAME:EST
DTSTART:20231105T060000
END:STANDARD
BEGIN:DAYLIGHT
TZOFFSETFROM:-0500
TZOFFSETTO:-0400
TZNAME:EDT
DTSTART:20240310T070000
END:DAYLIGHT
BEGIN:STANDARD
TZOFFSETFROM:-0400
TZOFFSETTO:-0500
TZNAME:EST
DTSTART:20241103T060000
END:STANDARD
BEGIN:DAYLIGHT
TZOFFSETFROM:-0500
TZOFFSETTO:-0400
TZNAME:EDT
DTSTART:20250309T070000
END:DAYLIGHT
BEGIN:STANDARD
TZOFFSETFROM:-0400
TZOFFSETTO:-0500
TZNAME:EST
DTSTART:20251102T060000
END:STANDARD
END:VTIMEZONE
BEGIN:VTIMEZONE
TZID:Europe/Prague
BEGIN:DAYLIGHT
TZOFFSETFROM:+0100
TZOFFSETTO:+0200
TZNAME:CEST
DTSTART:20220327T010000
END:DAYLIGHT
BEGIN:STANDARD
TZOFFSETFROM:+0200
TZOFFSETTO:+0100
TZNAME:CET
DTSTART:20221030T010000
END:STANDARD
BEGIN:DAYLIGHT
TZOFFSETFROM:+0100
TZOFFSETTO:+0200
TZNAME:CEST
DTSTART:20230326T010000
END:DAYLIGHT
BEGIN:STANDARD
TZOFFSETFROM:+0200
TZOFFSETTO:+0100
TZNAME:CET
DTSTART:20231029T010000
END:STANDARD
BEGIN:DAYLIGHT
TZOFFSETFROM:+0100
TZOFFSETTO:+0200
TZNAME:CEST
DTSTART:20240331T010000
END:DAYLIGHT
BEGIN:STANDARD
TZOFFSETFROM:+0200
TZOFFSETTO:+0100
TZNAME:CET
DTSTART:20241027T010000
END:STANDARD
END:VTIMEZONE
BEGIN:VTIMEZONE
TZID:UTC
BEGIN:STANDARD
TZOFFSETFROM:+0000
TZOFFSETTO:+0000
TZNAME:UTC
DTSTART:20220101T000000
END:STANDARD
END:VTIMEZONE
BEGIN:VTIMEZONE
TZID:Europe/Paris
BEGIN:DAYLIGHT
TZOFFSETFROM:+0100
TZOFFSETTO:+0200
TZNAME:CEST
DTSTART:20220327T010000
END:DAYLIGHT
BEGIN:STANDARD
TZOFFSETFROM:+0200
TZOFFSETTO:+0100
TZNAME:CET
DTSTART:20221030T010000
END:STANDARD
BEGIN:DAYLIGHT
TZOFFSETFROM:+0100
TZOFFSETTO:+0200
TZNAME:CEST
DTSTART:20230326T010000
END:DAYLIGHT
BEGIN:STANDARD
TZOFFSETFROM:+0200
TZOFFSETTO:+0100
TZNAME:CET
DTSTART:20231029T010000
END:STANDARD
BEGIN:DAYLIGHT
TZOFFSETFROM:+0100
TZOFFSETTO:+0200
TZNAME:CEST
DTSTART:20240331T010000
END:DAYLIGHT
BEGIN:STANDARD
TZOFFSETFROM:+0200
TZOFFSETTO:+0100
TZNAME:CET
DTSTART:20241027T010000
END:STANDARD
END:VTIMEZONE
BEGIN:VTIMEZONE
TZID:Europe/Berlin
BEGIN:DAYLIGHT
TZOFFSETFROM:+0100
TZOFFSETTO:+0200
TZNAME:CEST
DTSTART:20220327T010000
END:DAYLIGHT
BEGIN:STANDARD
TZOFFSETFROM:+0200
TZOFFSETTO:+0100
TZNAME:CET
DTSTART:20221030T010000
END:STANDARD
BEGIN:DAYLIGHT
TZOFFSETFROM:+0100
TZOFFSETTO:+0200
TZNAME:CEST
DTSTART:20230326T010000
END:DAYLIGHT
BEGIN:STANDARD
TZOFFSETFROM:+0200
TZOFFSETTO:+0100
TZNAME:CET
DTSTART:20231029T010000
END:STANDARD
BEGIN:DAYLIGHT
TZOFFSETFROM:+0100
TZOFFSETTO:+0200
TZNAME:CEST
DTSTART:20240331T010000
END:DAYLIGHT
BEGIN:STANDARD
TZOFFSETFROM:+0200
TZOFFSETTO:+0100
TZNAME:CET
DTSTART:20241027T010000
END:STANDARD
END:VTIMEZONE
BEGIN:VEVENT
DTSTART;TZID=America/New_York:20240115T123000
DTEND;TZID=America/New_York:20240115T133000
DTSTAMP:20260422T185503
CREATED:20240111T224809Z
LAST-MODIFIED:20240111T225914Z
UID:6798-1705321800-1705325400@tamizdat.org
SUMMARY:Tamizdat at APAP | NYC 2024: Visa Mobility Panel
DESCRIPTION:Tamizdat at APAP | NYC 2024\nVisa Mobility Panel: Monday January 15th 12:30-1:30\n\n\n\nPresenting international artists in the U.S. is complex and costly\, and the legal barriers caused visa laws and procedures is a perennial barrier that can feel almost insurmountable for artists\, agents\, managers\, and presenters. This panel brings together professionals with expertise and lived experience\, to discuss strategies for facing the challenges of keeping the U.S. open to international culture. \n\n\n\nThe Visa Mobility Panel features:\nPaula Abreu\, Director of Special Programming\, McCarter Theatre Center\n\n\nMatthew Covey\, Executive Director\, Tamizdat (moderator)\n\nJuli Ronderos\, Artist\, Salt Cathedral\n\n\n\n\nMahmood Shaikh\, Agent\, Concerted Efforts
URL:https://tamizdat.org/events/tamizdat-at-apap-nyc-2024-visa-mobility-panel/
LOCATION:New York Hilton Midtown\, 1335 Avenue of the Americas at 54th St.\, New York\, NY\, 10019\, United States
END:VEVENT
BEGIN:VEVENT
DTSTART;TZID=America/New_York:20240114T160000
DTEND;TZID=America/New_York:20240114T170000
DTSTAMP:20260422T185503
CREATED:20240111T225801Z
LAST-MODIFIED:20240111T225835Z
UID:6802-1705248000-1705251600@tamizdat.org
SUMMARY:Tamizdat at APAP | NYC 2024: Legislative Briefing
DESCRIPTION:Tamizdat at APAP | NYC 2024\n\nLegislative Briefing: Sunday January 14th 4:00-5:00 PM\nTrianon Ballroom\, 3rd Floor\n\nDescription forthcoming
URL:https://tamizdat.org/events/tamizdat-at-apap-nyc-2024-legislative-briefing/
LOCATION:New York Hilton Midtown\, 1335 Avenue of the Americas at 54th St.\, New York\, NY\, 10019\, United States
END:VEVENT
BEGIN:VEVENT
DTSTART;VALUE=DATE:20231025
DTEND;VALUE=DATE:20231030
DTSTAMP:20260422T185503
CREATED:20230813T215613Z
LAST-MODIFIED:20230908T135009Z
UID:6740-1698192000-1698623999@tamizdat.org
SUMMARY:WOMEX Conference\, A Coruña\, Spain
DESCRIPTION:October 28: Matthew Covey and Ashley Tucker of Artistic Freedom Initiative present\, Supporting Artists At-Risk Networking Session \nOctober 28: Tamizdat and On The Move present The Policy of Progress: The State of Advocacy for a More Diverse Cultural Sector
URL:https://tamizdat.org/events/matthew-covey-with-ashley-tucker-of-artistic-freedom-initiative-at-womex-conference/
END:VEVENT
BEGIN:VEVENT
DTSTART;VALUE=DATE:20230922
DTEND;VALUE=DATE:20230923
DTSTAMP:20260422T185503
CREATED:20230814T200946Z
LAST-MODIFIED:20230908T144825Z
UID:6744-1695340800-1695427199@tamizdat.org
SUMMARY:Circostrada\, Paris\, France
DESCRIPTION:Shelley Pinker will speak about U.S. visa issues for performing artists\, Day 3: About Sustainability
URL:https://tamizdat.org/events/shelley-pinker-at-fresh-2023/
END:VEVENT
BEGIN:VEVENT
DTSTART;VALUE=DATE:20230920
DTEND;VALUE=DATE:20230925
DTSTAMP:20260422T185503
CREATED:20230813T215523Z
LAST-MODIFIED:20230908T144405Z
UID:6738-1695168000-1695599999@tamizdat.org
SUMMARY:Reeperbahn Festival\, Hamburg\, Germany
DESCRIPTION:Matthew Covey will be at the Reeperbahn Festival: \nSeptember 20\, 2:30-4:00\, Wunderkind Q&A \nSeptember 22: 1:30-2:30\, Legal Mentoring Sessions
URL:https://tamizdat.org/events/matthew-covey-at-reeperbahn-festival-conference/
END:VEVENT
BEGIN:VEVENT
DTSTART;TZID=Europe/Berlin:20230919T110000
DTEND;TZID=Europe/Berlin:20230919T130000
DTSTAMP:20260422T185503
CREATED:20230908T144304Z
LAST-MODIFIED:20230908T144304Z
UID:6757-1695121200-1695128400@tamizdat.org
SUMMARY:Being Ready for SXSW\, Berlin\, Germany
DESCRIPTION:Initiative-Musik presents this crucial session for artists considering performing at Austin’s legendary South By Southwest conference. Presenting will be James Minor\, head of SXSW Music Festival\, and Mathew Covey\, Executive Director of Tamizdat.
URL:https://tamizdat.org/events/being-ready-for-sxsw-berlin-germany/
END:VEVENT
END:VCALENDAR