BEGIN:VCALENDAR
VERSION:2.0
PRODID:-//Tamizdat - ECPv6.15.20//NONSGML v1.0//EN
CALSCALE:GREGORIAN
METHOD:PUBLISH
X-WR-CALNAME:Tamizdat
X-ORIGINAL-URL:https://tamizdat.org
X-WR-CALDESC:Events for Tamizdat
REFRESH-INTERVAL;VALUE=DURATION:PT1H
X-Robots-Tag:noindex
X-PUBLISHED-TTL:PT1H
BEGIN:VTIMEZONE
TZID:UTC
BEGIN:STANDARD
TZOFFSETFROM:+0000
TZOFFSETTO:+0000
TZNAME:UTC
DTSTART:20240101T000000
END:STANDARD
END:VTIMEZONE
BEGIN:VEVENT
DTSTART;TZID=UTC:20250425T120000
DTEND;TZID=UTC:20250425T130000
DTSTAMP:20260420T055644
CREATED:20250418T180305Z
LAST-MODIFIED:20250418T180305Z
UID:6971-1745582400-1745586000@tamizdat.org
SUMMARY:Tamizdat at SHARPE Festival & Conference\, Slovakia
DESCRIPTION:Tamizdat is proud to be hosting the panel Songs of Resistance: Music’s Political Power at SHARPE Festival & Conference\, Bratislava.\nFor more information\, see the SHARPE Festival & Conference website. \nPanel: Songs of Resistance: Music’s Political Power\nHost: Matthew Covey (Tamizdat\, USA)\nSpeakers: Ana Marjanidze (3:AM / TRANSFORMA\, GE)\, Nasra A. Omar (Artist / Arts Council Norway\, NO)\, Michal Kaščák (Pohoda Festival\, SK) \nIn many countries around the world\, the music sector is engaged with political activism and resistance. Both as a catalyst for grass roots activism\, and also as a laboratory for progressive social change\, musicians\, music workers\, and music have unique power that can be harnessed for activism. The current geopolitical climate has made this work seem particularly urgent\, but it comes with risks and liabilities. In this panel\, the panelists will talk about the value of leveraging music toward progressive social and political change\, as well as the responsibilities\, dangers\, and limitations that come with this work.
URL:https://tamizdat.org/events/tamizdat-at-sharpe-festival-conference-slovakia/
LOCATION:Nová Cvernovka\, Račianska 78\, Bratislava\, 831 02\, Slovakia (Slovak Republic)
END:VEVENT
BEGIN:VEVENT
DTSTART;VALUE=DATE:20250429
DTEND;VALUE=DATE:20250501
DTSTAMP:20260420T055644
CREATED:20250417T191722Z
LAST-MODIFIED:20250417T191722Z
UID:6969-1745884800-1746057599@tamizdat.org
SUMMARY:Tamizdat at the 2025 Cultural Mobility Forum in Riga\, Latvia
DESCRIPTION:Tamizdat will be present at this year’s Cultural Mobility Forum\, an initiative of On The Move. On the Move’s Cultural Mobility Forum collectively investigates international artistic and cultural mobility trends. As a unique knowledge platform\, the network works together with its members and partners to design thematic panel discussions and contextualise global mobility issues. \nFind the program and read more about the Cultural Mobility Forum 2025 here!
URL:https://tamizdat.org/events/tamizdat-at-the-2025-cultural-mobility-forum-in-riga-latvia/
END:VEVENT
END:VCALENDAR